BEGIN:VCALENDAR
VERSION:2.0
PRODID:-//eventon.com NONSGML v1.0//EN
CALSCALE:GREGORIAN
METHOD:PUBLISH
BEGIN:VEVENT
UID:69e58e6475967
DTSTAMP:20260420T022436Z
DTSTART:20270130T131100Z
DTEND:20270130T225000Z
LOCATION:
SUMMARY:Receptie Jeugdpreens(es) 2025-2026
DESCRIPTION:Receptie Jeugdpreens(es) 2025-2026\nhttps://vvvreugoflaat.nl/ev
 ents/snacks-happen/
URL:https://vvvreugoflaat.nl/events/snacks-happen/
END:VEVENT
END:VCALENDAR