BEGIN:VCALENDAR
VERSION:2.0
PRODID:-//eventon.com NONSGML v1.0//EN
CALSCALE:GREGORIAN
METHOD:PUBLISH
BEGIN:VEVENT
UID:69e58e164a59d
DTSTAMP:20260420T022318Z
DTSTART:20270208T101100Z
DTEND:20270208T225000Z
LOCATION:
SUMMARY:Frühshoppen
DESCRIPTION:Frühshoppen\nhttps://vvvreugoflaat.nl/events/fruhshoppen/
URL:https://vvvreugoflaat.nl/events/fruhshoppen/
END:VEVENT
END:VCALENDAR