BEGIN:VCALENDAR
VERSION:2.0
PRODID:-//eventon.com NONSGML v1.0//EN
CALSCALE:GREGORIAN
METHOD:PUBLISH
BEGIN:VEVENT
UID:69eb58d6e9943
DTSTAMP:20260424T114942Z
DTSTART:20270204T191100Z
DTEND:20270204T225000Z
LOCATION:
SUMMARY:Preensebattle
DESCRIPTION:Preensebattle\nhttps://vvvreugoflaat.nl/events/preensebattle/
URL:https://vvvreugoflaat.nl/events/preensebattle/
END:VEVENT
END:VCALENDAR