BEGIN:VCALENDAR
VERSION:2.0
PRODID:-//eventon.com NONSGML v1.0//EN
CALSCALE:GREGORIAN
METHOD:PUBLISH
BEGIN:VEVENT
UID:69e58c324b81c
DTSTAMP:20260420T021514Z
DTSTART:20270125T181100Z
DTEND:20270125T225000Z
LOCATION:
SUMMARY:Boorebal met uutrooping Boore broëdspaar 2027
DESCRIPTION:Boorebal met uutrooping Boore broëdspaar 2027\nhttps://vvvreug
 oflaat.nl/events/test-2/
URL:https://vvvreugoflaat.nl/events/test-2/
END:VEVENT
END:VCALENDAR