BEGIN:VCALENDAR
VERSION:2.0
PRODID:-//eventon.com NONSGML v1.0//EN
CALSCALE:GREGORIAN
METHOD:PUBLISH
BEGIN:VEVENT
UID:69e58dbc56b29
DTSTAMP:20260420T022148Z
DTSTART:20270123T171100Z
DTEND:20270123T225000Z
LOCATION:
SUMMARY:Receptie Preens(es) 2026-2027
DESCRIPTION:Receptie Preens(es) 2026-2027\nhttps://vvvreugoflaat.nl/events/
 test-copy/
URL:https://vvvreugoflaat.nl/events/test-copy/
END:VEVENT
END:VCALENDAR