BEGIN:VCALENDAR
VERSION:2.0
PRODID:-//eventon.com NONSGML v1.0//EN
CALSCALE:GREGORIAN
METHOD:PUBLISH
BEGIN:VEVENT
UID:69e58e0d56075
DTSTAMP:20260420T022309Z
DTSTART:20261114T181100Z
DTEND:20261114T225000Z
LOCATION:
SUMMARY:Opening vastelaovendj seizoen & Uutroope nowwe Preens(es) 2026-2027
DESCRIPTION:Opening vastelaovendj seizoen & Uutroope nowwe Preens(es) 2026-
 2027\nhttps://vvvreugoflaat.nl/events/test/
URL:https://vvvreugoflaat.nl/events/test/
END:VEVENT
END:VCALENDAR