BEGIN:VCALENDAR
VERSION:2.0
PRODID:-//eventon.com NONSGML v1.0//EN
CALSCALE:GREGORIAN
METHOD:PUBLISH
BEGIN:VEVENT
UID:69e58e1191c50
DTSTAMP:20260420T022313Z
DTSTART:20261121T131100Z
DTEND:20261121T225000Z
LOCATION:
SUMMARY:Uutrooping Jeugdpreens(es) 2026-2027
DESCRIPTION:Uutrooping Jeugdpreens(es) 2026-2027\nhttps://vvvreugoflaat.nl/
 events/uutrooping-jeugdpreenses-2024-2025/
URL:https://vvvreugoflaat.nl/events/uutrooping-jeugdpreenses-2024-2025/
END:VEVENT
END:VCALENDAR